BEGIN:VCALENDAR
VERSION:2.0
PRODID:-//ChamberMaster//Event Calendar 2.0//EN
METHOD:PUBLISH
X-PUBLISHED-TTL:P3D
REFRESH-INTERVAL:P3D
CALSCALE:GREGORIAN
BEGIN:VEVENT
DTSTART:20200327T153000Z
DTEND:20200327T200000Z
X-MICROSOFT-CDO-ALLDAYEVENT:FALSE
SUMMARY:AARP Foundation Tax-Aide
DESCRIPTION:Free tax prep and filing every Friday\, February 7 - April 10\, 2019 from 10:30am - 3:00pm. Community will be helped on a first come first served basis. Please bring Government-issued photo ID for the taxpayer and Social Security cards or ITIN documentation for all listed on the return.\n\n\nVolunteers are trained to assist you in filing many income tax forms and schedules. There are no age or income limits\, however\, the Volunteer Protection Act requires that the volunteers stay within scope of forms and situations for which they have received training. Anyone of any age   especially if you are 50 or older or can't afford paid tax preparation\, is welcome. Community will be helped on a first come first served basis.
X-ALT-DESC;FMTTYPE=text/html:<p>Free tax prep and filing every Friday\, February 7 - April 10\, 2019 from 10:30am - 3:00pm. Community will be helped on a first come first served basis.&nbsp\;<span style="font-size:14px"><strong>Please bring Government-issued photo ID for the taxpayer and Social Security cards or ITIN documentation for all listed on the return.</strong></span></p>\n\n<hr />\n<p><span style="font-size:14px">Volunteers are trained to assist you in filing many income tax forms and schedules. There are no age or income limits\, however\, the Volunteer Protection Act requires that the volunteers stay within scope of forms and situations for which they have received training. Anyone of any age &mdash\; especially if you are 50 or older or can&rsquo\;t afford paid tax preparation\, is welcome. Community will be helped on a first come first served basis.</span></p>\n
LOCATION:Mammen Family Public Library
UID:e.563.24089
SEQUENCE:3
DTSTAMP:20260423T185241Z
URL:https://web.bulverdespringbranchchamber.com/events/details/aarp-foundation-tax-aide-03-27-2020-24089
END:VEVENT

END:VCALENDAR
