BEGIN:VCALENDAR
VERSION:2.0
PRODID:-//ChamberMaster//Event Calendar 2.0//EN
METHOD:PUBLISH
X-PUBLISHED-TTL:P3D
REFRESH-INTERVAL:P3D
CALSCALE:GREGORIAN
BEGIN:VEVENT
DTSTART:20200402T223000Z
DTEND:20200402T233000Z
X-MICROSOFT-CDO-ALLDAYEVENT:FALSE
SUMMARY:Affordable Homeownership Opportunity in Canyon Lake
DESCRIPTION:Comal County Habitat for Humanity is now accepting applications from potential homebuyers in the Canyon Lake community. \n\n\n\nComal County Habitat's Home Program is a partnership between the organization itself and the homebuyers that have been accepted into the program based on their qualifications. This partnership builds strength\, stability and self-reliance through shelter. Habitat for Humanity builds safe\, decent\, affordable homes through volunteer labor and donations of money\, materials\, and services. Homes are sold to eligible partner homebuyers through affordable and supportive financing at no profit to Comal County Habitat.\n\n\n\nBasic qualifications for the Home Program include:\n\n	Meeting specific HUD income guidelines\n	Having lived or worked in Comal County for the past 12 months\n	The ability to pay a long-term\, affordable mortgage\,\n	Legal residency in the United States\n	The ability to successfully pass a criminal background check.\n\nFor those interested in learning more about purchasing a home\, Comal County Habitat will host two homebuyer presentations at the end of March and beginning of April. These presentations are free to anyone who would like to attend\, but are not required to apply for the program.\n\n\n\nDetails for the homebuyer presentations are below: -\n\n        Saturday\, March 28th\, 2020 at the Mammen Family Public Library\n\n                        131 Bulverde Crossing\, Bulverde\, TX         12 PM   1 PM\n\n\n\n        Thursday\, April 2nd 2020 at CRRC\n\n                        1917 FM 2673\, Canyon Lake\, TX)          5:30 PM - 6:30 PM\n\n\n\n"Comal County Habitat for Humanity's vision is a world where everyone has a decent place to live. If you have ever dreamt of owning your own home but did not qualify for a conventional loan\, this program may be what you need\," said Denise Farias\, Home Program Coordinator for Comal County Habitat for Humanity.\n\n\n\n"Our program is a hand up that assists you along the way. You will never know if you don't try!" Since its beginning in 1993\, Comal County Habitat for Humanity has partnered with over 140 local families to rehabilitate 91 homes and build 49 new homes.\n\n\n\nAnyone interested in partnering with Comal County Habitat to build their home in Canyon Lake can pick up an application at their offices located at 1269 Industrial Drive\, New Braunfels\, TX 78130 any time between 9 AM and 5 PM Tuesday   Friday and 9 AM   4 PM on Saturdays.\n\n\n\nThose interested in affordable homeownership do not have to attend a homebuyer presentation to fill out an application\, although it is encouraged. The deadline to fill out and return a homebuyer application for a new home in Canyon Lake is May 2nd\, 2020. \n\n\n\nhttps://www.comalhabitat.org/homeownership/becoming-homebuyer  \n\n\n\n\n\nAbout Comal County Habitat for Humanity: Comal County Habitat for Humanity's mission is to build safe\, decent and affordable homes in partnership with deserving\, low-income homebuyers. With the help of the community\, these future homeowners build their own Habitat homes and upon completion\, buy the home from Comal County Habitat for Humanity at a low-cost\, no-interest affordable mortgage.\n\n\n\nContact: Alan Rubiola\, Communications Manager Email: arubiola@comalhabitat.org Phone: (830) 625-4025
X-ALT-DESC;FMTTYPE=text/html:<span style="font-size:14px\;"><span style="font-family:verdana\;"><strong>Comal County Habitat for Humanity is now accepting applications from potential homebuyers in the Canyon Lake community. </strong></span></span><br />\n<br />\nComal County Habitat&rsquo\;s Home Program is a partnership between the organization itself and the homebuyers that have been accepted into the program based on their qualifications. This partnership builds strength\, stability and self-reliance through shelter. Habitat for Humanity builds safe\, decent\, affordable homes through volunteer labor and donations of money\, materials\, and services. Homes are sold to eligible partner homebuyers through affordable and supportive financing at no profit to Comal County Habitat.<br />\n<br />\nBasic qualifications for the Home Program include:\n<ul>\n	<li>Meeting specific HUD income guidelines</li>\n	<li>Having lived or worked in Comal County for the past 12 months</li>\n	<li>The ability to pay a long-term\, affordable mortgage\,</li>\n	<li>Legal residency in the United States</li>\n	<li>The ability to successfully pass a criminal background check.</li>\n</ul>\nFor those interested in learning more about purchasing a home\, Comal County Habitat will host two homebuyer presentations at the end of March and beginning of April. These presentations are free to anyone who would like to attend\, but are not required to apply for the program.<br />\n<br />\nDetails for the homebuyer presentations are below: -<br />\n&nbsp\;&nbsp\;&nbsp\;&nbsp\;&nbsp\;&nbsp\;&nbsp\;&nbsp\;Saturday\, March 28th\, 2020 at the Mammen Family Public Library<br />\n&nbsp\;&nbsp\;&nbsp\;&nbsp\;&nbsp\;&nbsp\;&nbsp\;&nbsp\;&nbsp\;&nbsp\;&nbsp\;&nbsp\;&nbsp\;&nbsp\;&nbsp\;&nbsp\;&nbsp\;&nbsp\;&nbsp\;&nbsp\;&nbsp\;&nbsp\;&nbsp\;&nbsp\;131 Bulverde Crossing\, Bulverde\, TX&nbsp\;&nbsp\;&nbsp\; &nbsp\; &nbsp\; &nbsp\;12 PM &ndash\; 1 PM<br />\n<br />\n&nbsp\;&nbsp\;&nbsp\;&nbsp\;&nbsp\;&nbsp\;&nbsp\;&nbsp\;Thursday\, April 2nd 2020 at CRRC<br />\n&nbsp\;&nbsp\;&nbsp\;&nbsp\;&nbsp\;&nbsp\;&nbsp\;&nbsp\;&nbsp\;&nbsp\;&nbsp\;&nbsp\;&nbsp\;&nbsp\;&nbsp\;&nbsp\;&nbsp\;&nbsp\;&nbsp\;&nbsp\;&nbsp\;&nbsp\;&nbsp\;&nbsp\;1917 FM 2673\, Canyon Lake\, TX)&nbsp\; &nbsp\; &nbsp\; &nbsp\; &nbsp\; 5:30 PM - 6:30 PM<br />\n<br />\n&ldquo\;Comal County Habitat for Humanity&rsquo\;s vision is a world where everyone has a decent place to live. If you have ever dreamt of owning your own home but did not qualify for a conventional loan\, this program may be what you need\,&rdquo\; said Denise Farias\, Home Program Coordinator for Comal County Habitat for Humanity.<br />\n<br />\n&ldquo\;Our program is a hand up that assists you along the way. You will never know if you don&rsquo\;t try!&rdquo\; Since its beginning in 1993\, Comal County Habitat for Humanity has partnered with over 140 local families to rehabilitate 91 homes and build 49 new homes.<br />\n<br />\nAnyone interested in partnering with Comal County Habitat to build their home in Canyon Lake can pick up an application at their offices located at 1269 Industrial Drive\, New Braunfels\, TX 78130 any time between 9 AM and 5 PM Tuesday &ndash\; Friday and 9 AM &ndash\; 4 PM on Saturdays.<br />\n<br />\nThose interested in affordable homeownership do not have to attend a homebuyer presentation to fill out an application\, although it is encouraged. <strong>The deadline to fill out and return a homebuyer application for a new home in Canyon Lake is May 2nd\, 2020. </strong><br />\n<br />\n<a href="https://www.comalhabitat.org/homeownership/becoming-homebuyer">https://www.comalhabitat.org/homeownership/becoming-homebuyer</a>&nbsp\;&nbsp\;<br />\n<br />\n<br />\nAbout Comal County Habitat for Humanity: Comal County Habitat for Humanity&rsquo\;s mission is to build safe\, decent and affordable homes in partnership with deserving\, low-income homebuyers. With the help of the community\, these future homeowners build their own Habitat homes and upon completion\, buy the home from Comal County Habitat for Humanity at a low-cost\, no-interest affordable mortgage.<br />\n<br />\nContact: Alan Rubiola\, Communications Manager Email: arubiola@comalhabitat.org Phone: (830) 625-4025
LOCATION:CRRC
UID:e.563.24369
SEQUENCE:3
DTSTAMP:20260423T164441Z
URL:https://web.bulverdespringbranchchamber.com/events/details/affordable-homeownership-opportunity-in-canyon-lake-04-02-2020-24369
END:VEVENT

END:VCALENDAR
