BEGIN:VCALENDAR
VERSION:2.0
PRODID:-//ChamberMaster//Event Calendar 2.0//EN
METHOD:PUBLISH
X-PUBLISHED-TTL:P3D
REFRESH-INTERVAL:P3D
CALSCALE:GREGORIAN
BEGIN:VEVENT
DTSTART:20200312T140000Z
DTEND:20200312T150000Z
X-MICROSOFT-CDO-ALLDAYEVENT:FALSE
SUMMARY:Ambassador Meeting
DESCRIPTION:Ambassador Meeting\n\nThursday\, March 12\, 2020 at 9:00 am\n\nAy Chiwawa! Mexican Cafe\n\n403 Singing Oaks\n\nSpring Branch\, TX 78070
X-ALT-DESC;FMTTYPE=text/html:Ambassador Meeting<br />\nThursday\, March 12\, 2020 at 9:00 am<br />\nAy Chiwawa! Mexican Cafe<br />\n403 Singing Oaks<br />\nSpring Branch\, TX 78070
LOCATION:Ay Chiwawa! Mexican Cafe 403 Singing Oaks Spring Branch\, TX 78070
UID:e.563.24381
SEQUENCE:3
DTSTAMP:20260423T183354Z
URL:https://web.bulverdespringbranchchamber.com/events/details/ambassador-meeting-24381
END:VEVENT

END:VCALENDAR
