BEGIN:VCALENDAR
VERSION:2.0
PRODID:-//ChamberMaster//Event Calendar 2.0//EN
METHOD:PUBLISH
X-PUBLISHED-TTL:P3D
REFRESH-INTERVAL:P3D
CALSCALE:GREGORIAN
BEGIN:VEVENT
DTSTART:20211209T143000Z
DTEND:20211209T153000Z
X-MICROSOFT-CDO-ALLDAYEVENT:FALSE
SUMMARY:Ambassador Meeting
DESCRIPTION:Ambassador Meeting\n\nThursday\, December 9\, 2021 at 8:30 am\n\nBreakfast compliments of the BSB Chamber of Commerce\n\n\n\nThe Screaming Goat Yard & Tap\n\n4 Sun Valley Dr.\n\nSpring Branch\, TX 78070
X-ALT-DESC;FMTTYPE=text/html:<strong>Ambassador Meeting<br />\nThursday\, December 9\, 2021 at 8:30 am<br />\nBreakfast compliments of the BSB Chamber of Commerce</strong><br />\n<br />\nThe Screaming Goat Yard &amp\; Tap<br />\n4 Sun Valley Dr.<br />\nSpring Branch\, TX 78070
LOCATION:The Screaming Goat Yard & Tap 4 Sun Valley Dr. Spring Branch\, TX 78070
UID:e.563.26627
SEQUENCE:3
DTSTAMP:20260422T051130Z
URL:https://web.bulverdespringbranchchamber.com/events/details/ambassador-meeting-26627
END:VEVENT

END:VCALENDAR
