BEGIN:VCALENDAR
VERSION:2.0
PRODID:-//ChamberMaster//Event Calendar 2.0//EN
METHOD:PUBLISH
X-PUBLISHED-TTL:P3D
REFRESH-INTERVAL:P3D
CALSCALE:GREGORIAN
BEGIN:VEVENT
DTSTART:20220210T143000Z
DTEND:20220210T153000Z
X-MICROSOFT-CDO-ALLDAYEVENT:FALSE
SUMMARY:Ambassador Meeting
DESCRIPTION:Ambassador Meeting\n\nThursday\, February 10\, 2022 at 8:30 am\n\nAy Chiwawa\n\n403 Singing Oaks\n\nSpring Branch\, TX 78070
X-ALT-DESC;FMTTYPE=text/html:Ambassador Meeting<br />\nThursday\, February 10\, 2022 at 8:30 am<br />\nAy Chiwawa<br />\n403 Singing Oaks<br />\nSpring Branch\, TX 78070
LOCATION:Ay Chiwawa 403 Singing Oaks Spring Branch\, TX 78070
UID:e.563.27250
SEQUENCE:3
DTSTAMP:20260422T012615Z
URL:https://web.bulverdespringbranchchamber.com/events/details/ambassador-meeting-27250
END:VEVENT

END:VCALENDAR
