BEGIN:VCALENDAR
VERSION:2.0
PRODID:-//ChamberMaster//Event Calendar 2.0//EN
METHOD:PUBLISH
X-PUBLISHED-TTL:P3D
REFRESH-INTERVAL:P3D
CALSCALE:GREGORIAN
BEGIN:VEVENT
DTSTART:20200104T163000Z
DTEND:20200104T203000Z
X-MICROSOFT-CDO-ALLDAYEVENT:FALSE
SUMMARY:Blood Drive with the South Texas Blood & Tissue Center
DESCRIPTION:Come donate blood for a good cause to help those who can't help themselves.\n\n\n\nSign up for a time that is convenient for you by either signing up at the circulation desk\, by calling 830.438.4864 or sign up online here. Time slots are in 1/2 hour increments.
X-ALT-DESC;FMTTYPE=text/html:<span style="font-size:16px\;"><span style="font-family:verdana\;">Come donate blood for a good cause to help those who can&#39\;t help themselves.<br />\n<br />\nSign up for a time that is convenient for you by either signing up at the circulation desk\, by calling 830.438.4864 or<a href="https://donor.southtexasblood.org/donor/schedules/drive_schedule/111015" style="box-sizing: border-box\; color: rgb(41\, 84\, 209)\; text-decoration-line: none\; font-family: Arial\, Helvetica\, Verdana\; font-size: 12px\;">&nbsp\;sign up online here</a>. Time slots are in 1/2 hour increments.</span></span>
LOCATION:Mammen Family Public Library
UID:e.563.23923
SEQUENCE:3
DTSTAMP:20260423T234107Z
URL:https://web.bulverdespringbranchchamber.com/events/details/blood-drive-with-the-south-texas-blood-tissue-center-23923
END:VEVENT

END:VCALENDAR
