BEGIN:VCALENDAR
VERSION:2.0
PRODID:-//ChamberMaster//Event Calendar 2.0//EN
METHOD:PUBLISH
X-PUBLISHED-TTL:P3D
REFRESH-INTERVAL:P3D
CALSCALE:GREGORIAN
BEGIN:VEVENT
DTSTART:20220402T210000Z
DTEND:20220403T030000Z
X-MICROSOFT-CDO-ALLDAYEVENT:FALSE
SUMMARY:Bluebonnet Extravaganza Dinner & Auction
DESCRIPTION:Help Preserve Our Hill Country Environment at our third annual fundraising dinner and auction.\n\n\n\nEnjoy fabulous Texas BBQ\, local libations\, unique photo opportunities\, music\, dancing\, and more! We are holding this year's fundraiser at the historic Knibbe Ranch in Spring Branch\, one of the few remaining Century Heritage ranches in Texas.\n\n\n\nThe evening is dedicated to raising funds for the continued legal fight against the proposed Vulcan quarry and bringing awareness to the negative impacts of poorly supervised aggregate mining and operations in Texas.\n\n\n\nSilent and live auctions will top off the evening as we toast everything that we love about our one-of-a-kind Hill Country all while supporting a great cause! All proceeds will support legal counsel and scientific experts needed for the ongoing battle against the proposed Vulcan quarry and TCEQ.\n\n\n\nAttire: bolos and boots (Hill Country dressy). Our past events have sold out quickly\, so purchase your tickets today!
X-ALT-DESC;FMTTYPE=text/html:Help Preserve Our Hill Country Environment at our third annual fundraising dinner and auction.<br />\n<br />\nEnjoy fabulous Texas BBQ\, local libations\, unique photo opportunities\, music\, dancing\, and more! We are holding this year&rsquo\;s fundraiser at the historic Knibbe Ranch in Spring Branch\, one of the few remaining Century Heritage ranches in Texas.<br />\n<br />\nThe evening is dedicated to raising funds for the continued legal fight against the proposed Vulcan quarry and bringing awareness to the negative impacts of poorly supervised aggregate mining and operations in Texas.<br />\n<br />\nSilent and live auctions will top off the evening as we toast everything that we love about our one-of-a-kind Hill Country&mdash\;all while supporting a great cause! All proceeds will support legal counsel and scientific experts needed for the ongoing battle against the proposed Vulcan quarry and TCEQ.<br />\n<br />\nAttire: bolos and boots (Hill Country dressy). Our past events have sold out quickly\, so purchase your tickets today!
LOCATION:Knibbe Ranch 9836 Spring Branch Road Spring Branch\, TX 78070
UID:e.563.27181
SEQUENCE:3
DTSTAMP:20260421T215828Z
URL:https://web.bulverdespringbranchchamber.com/events/details/bluebonnet-extravaganza-dinner-auction-04-02-2022-27181
END:VEVENT

END:VCALENDAR
