BEGIN:VCALENDAR
VERSION:2.0
PRODID:-//ChamberMaster//Event Calendar 2.0//EN
METHOD:PUBLISH
X-PUBLISHED-TTL:P3D
REFRESH-INTERVAL:P3D
CALSCALE:GREGORIAN
BEGIN:VEVENT
DTSTART:20220120T233000Z
DTEND:20220121T000000Z
X-MICROSOFT-CDO-ALLDAYEVENT:FALSE
SUMMARY:CANCELLED - Ribbon Cutting for Sassy Shack Boutique
DESCRIPTION:CANCELLED - WILL BE RESCHEDULED AT A LATER DATE\n\n\n\nRibbon Cutting for\n\nSassy Shack Boutique\n\nThursday\, January 20\, 2022 at 5:30 pm\n\nNEW ADDRESS: \n\n4476 Hwy 281 N\, Ste C\n\nSpring Branch\, TX 78070\n\n830-438-1171\n\nwww.shopsassyshack.com
X-ALT-DESC;FMTTYPE=text/html:<span style="color:#FF0000\;"><strong>CANCELLED - WILL BE RESCHEDULED AT A LATER DATE</strong></span><br />\n<br />\nRibbon Cutting for<br />\n<span style="font-size:18px\;"><strong>Sassy Shack Boutique</strong><br />\n<span style="font-size:14px\;">Thursday\, January 20\, 2022 at 5:30 pm</span></span><br />\n<em><strong>NEW ADDRESS:&nbsp\;</strong></em><br />\n4476 Hwy 281 N\, Ste C<br />\nSpring Branch\, TX 78070<br />\n830-438-1171<br />\nwww.shopsassyshack.com
LOCATION:4476 Hwy 281 N\, Ste C Spring Branch\, TX 78070
UID:e.563.26631
SEQUENCE:3
DTSTAMP:20260423T223732Z
URL:https://web.bulverdespringbranchchamber.com/events/details/cancelled-ribbon-cutting-for-sassy-shack-boutique-26631
END:VEVENT

END:VCALENDAR
