BEGIN:VCALENDAR
VERSION:2.0
PRODID:-//ChamberMaster//Event Calendar 2.0//EN
METHOD:PUBLISH
X-PUBLISHED-TTL:P3D
REFRESH-INTERVAL:P3D
CALSCALE:GREGORIAN
BEGIN:VEVENT
DTSTART:20210928T130000Z
DTEND:20210928T140000Z
X-MICROSOFT-CDO-ALLDAYEVENT:FALSE
SUMMARY:Chamber Board of Monthly Directors Meeting
DESCRIPTION:Monthly Board of Directors Meeting\n\n\n\nAgenda\n\nFinancial Reports - August 31\, 2021\n\nProposed Board Expectations\n\nProposed Membership Investment Levels\n\nMinutes for the August 24\, 2021 Meeting\n\nPresident's Report for September \n\nCouncil Reports\n\nOffice Report
X-ALT-DESC;FMTTYPE=text/html:<span style="font-size:14px\;">Monthly Board of Directors Meeting<br />\n<br />\n<a href="https://chambermaster.blob.core.windows.net/userfiles/UserFiles/chambers/563/File/SeptemberAgenda2021.pdf">Agenda</a><br />\n<a href="https://chambermaster.blob.core.windows.net/userfiles/UserFiles/chambers/563/File/August312021FinancialReport.pdf">Financial Reports - August 31\,&nbsp\;2021</a><br />\n<a href="https://chambermaster.blob.core.windows.net/userfiles/UserFiles/chambers/563/File/BoardExpectations.pdf">Proposed Board Expectations</a><br />\n<a href="https://chambermaster.blob.core.windows.net/userfiles/UserFiles/chambers/563/File/ProposedMembershipInvestmentProgram.pdf">Proposed Membership Investment Levels</a><br />\nMinutes for the August 24\, 2021 Meeting<br />\n<a href="https://chambermaster.blob.core.windows.net/userfiles/UserFiles/chambers/563/File/SeptemberPresidentsReport2021.pdf">President&#39\;s Report for September&nbsp\;</a><br />\n<a href="https://chambermaster.blob.core.windows.net/userfiles/UserFiles/chambers/563/File/CouncilReportsSept2021.pdf">Council Reports</a><br />\n<a href="https://chambermaster.blob.core.windows.net/userfiles/UserFiles/chambers/563/File/OFFICEREPORT-August2021.pdf">Office Report</a></span>
LOCATION:Board Meeting will be held In Person at Bulverde Visitor & Event Center If you cannot attend in person\, email Rhonda for a Zoom link
UID:e.563.26421
SEQUENCE:3
DTSTAMP:20260424T055408Z
URL:https://web.bulverdespringbranchchamber.com/events/details/chamber-board-of-monthly-directors-meeting-26421
END:VEVENT

END:VCALENDAR
