BEGIN:VCALENDAR
VERSION:2.0
PRODID:-//ChamberMaster//Event Calendar 2.0//EN
METHOD:PUBLISH
X-PUBLISHED-TTL:P3D
REFRESH-INTERVAL:P3D
CALSCALE:GREGORIAN
BEGIN:VEVENT
DTSTART:20220628T130000Z
DTEND:20220628T140000Z
X-MICROSOFT-CDO-ALLDAYEVENT:FALSE
SUMMARY:Chamber Board of Monthly Directors Meeting
DESCRIPTION:Monthly Board of Directors Meeting\n\n\n\nAgenda\n\nFinancial Reports - May 31\, 2022    \n\nMinutes for the May 24\, 2022 Meeting\n\nPresident's Report for June 2022\n\nCouncil Reports\n\nOffice Report - May 31\, 2022
X-ALT-DESC;FMTTYPE=text/html:<span style="font-size:14px\;">Monthly Board of Directors Meeting<br />\n<br />\n<a href="https://chambermaster.blob.core.windows.net/userfiles/UserFiles/chambers/563/File/AgendaJune282022Meeting.pdf">Agenda</a><br />\n<a href="https://chambermaster.blob.core.windows.net/userfiles/UserFiles/chambers/563/File/May31stFinancialReport.pdf">Financial Reports - May 31\, 2022</a></span><a href="https://chambermaster.blob.core.windows.net/userfiles/UserFiles/chambers/563/File/May31stFinancialReport.pdf">&nbsp\;&nbsp\;</a>&nbsp\;&nbsp\;<br />\n<span style="font-size:14px\;"><a href="https://chambermaster.blob.core.windows.net/userfiles/UserFiles/chambers/563/File/BSBChamberBODMeetingMinutes052422.pdf">Minutes for the May 24\, 2022 Meeting</a><br />\n<a href="https://chambermaster.blob.core.windows.net/userfiles/UserFiles/chambers/563/File/JunePresidentsReport.pdf">President&#39\;s Report for June 2022</a><br />\nCouncil Reports</span><br />\n<a href="https://chambermaster.blob.core.windows.net/userfiles/UserFiles/chambers/563/File/OFFICEREPORT-May2022.pdf">Office Report - May 31\, 2022</a><br />\n&nbsp\;
LOCATION:Board Meeting will be held In Person BULVERDE VISITOR & EVENT CENTER
UID:e.563.27431
SEQUENCE:3
DTSTAMP:20260423T044853Z
URL:https://web.bulverdespringbranchchamber.com/events/details/chamber-board-of-monthly-directors-meeting-27431
END:VEVENT

END:VCALENDAR
