BEGIN:VCALENDAR
VERSION:2.0
PRODID:-//ChamberMaster//Event Calendar 2.0//EN
METHOD:PUBLISH
X-PUBLISHED-TTL:P3D
REFRESH-INTERVAL:P3D
CALSCALE:GREGORIAN
BEGIN:VEVENT
DTSTART:20221122T140000Z
DTEND:20221122T150000Z
X-MICROSOFT-CDO-ALLDAYEVENT:FALSE
SUMMARY:Chamber Board of Monthly Directors Meeting
DESCRIPTION:Monthly Board of Directors Meeting\n\n\n\nAgenda\n\nFinancial Reports - October 31\, 2022    \n\nMinutes for the October 25\, 2022 Meeting\n\nPresident's Report for November\n\nCouncil Reports\n\nOffice Report - October 31\, 2022
X-ALT-DESC;FMTTYPE=text/html:<span style="font-size:14px\;">Monthly Board of Directors Meeting<br />\n<br />\n<a href="https://chambermaster.blob.core.windows.net/userfiles/UserFiles/chambers/563/File/AgendaNov222022Meeting.pdf">Agenda</a><br />\n<a href="https://chambermaster.blob.core.windows.net/userfiles/UserFiles/chambers/563/File/FullFinancialReport10312022.pdf">Financial Reports - October 31\, 2022</a></span><a href="https://chambermaster.blob.core.windows.net/userfiles/UserFiles/chambers/563/File/FullFinancialReport10312022.pdf">&nbsp\;&nbsp\;&nbsp\;&nbsp\;</a><br />\n<span style="font-size:14px\;"><a href="https://chambermaster.blob.core.windows.net/userfiles/UserFiles/chambers/563/File/BSBChamberBODMeetingMinutes102522.pdf">Minutes for the October 25\, 2022 Meeting</a><br />\n<a href="https://chambermaster.blob.core.windows.net/userfiles/UserFiles/chambers/563/File/November22PresidentsReport.pdf">President&#39\;s Report for November</a></span><br />\n<span style="font-size:14px\;">Council Reports</span><br />\n<a href="https://chambermaster.blob.core.windows.net/userfiles/UserFiles/chambers/563/File/OfficeReport-October2022.pdf">Office Report - October 31\, 2022</a><br />\n&nbsp\;
LOCATION:Board Meeting will be held In Person BULVERDE VISITOR & EVENT CENTER
UID:e.563.28502
SEQUENCE:3
DTSTAMP:20260422T062710Z
URL:https://web.bulverdespringbranchchamber.com/events/details/chamber-board-of-monthly-directors-meeting-28502
END:VEVENT

END:VCALENDAR
