BEGIN:VCALENDAR
VERSION:2.0
PRODID:-//ChamberMaster//Event Calendar 2.0//EN
METHOD:PUBLISH
X-PUBLISHED-TTL:P3D
REFRESH-INTERVAL:P3D
CALSCALE:GREGORIAN
BEGIN:VEVENT
DTSTART;VALUE=DATE:20220701
DTEND;VALUE=DATE:20220705
TRANSP:TRANSPARENT
X-MICROSOFT-CDO-ALLDAYEVENT:TRUE
SUMMARY:Choices & More
DESCRIPTION:#Happy4thofJuly
X-ALT-DESC;FMTTYPE=text/html:#Happy4thofJuly
LOCATION:
UID:e.563.27618
SEQUENCE:3
DTSTAMP:20260421T184033Z
URL:https://web.bulverdespringbranchchamber.com/events/details/choices-more-07-01-2022-27618
END:VEVENT

END:VCALENDAR
