BEGIN:VCALENDAR
VERSION:2.0
PRODID:-//ChamberMaster//Event Calendar 2.0//EN
METHOD:PUBLISH
X-PUBLISHED-TTL:P3D
REFRESH-INTERVAL:P3D
CALSCALE:GREGORIAN
BEGIN:VEVENT
DTSTART:20220919T223000Z
DTEND:20220919T233000Z
X-MICROSOFT-CDO-ALLDAYEVENT:FALSE
SUMMARY:Comal County Master Gardeners
DESCRIPTION:Chuck McCollum will discuss the basics of tree pruning - "from how to trim a branch to which branches to remove". This event is open to the public
X-ALT-DESC;FMTTYPE=text/html:Chuck McCollum will discuss the basics of tree pruning - &quot\;from how to trim a branch to which branches to remove&quot\;. This event is open to the public
LOCATION:Mammen Family Public Library
UID:e.563.27868
SEQUENCE:3
DTSTAMP:20260421T114234Z
URL:https://web.bulverdespringbranchchamber.com/events/details/comal-county-master-gardeners-09-19-2022-27868
END:VEVENT

END:VCALENDAR
