BEGIN:VCALENDAR
VERSION:2.0
PRODID:-//ChamberMaster//Event Calendar 2.0//EN
METHOD:PUBLISH
X-PUBLISHED-TTL:P3D
REFRESH-INTERVAL:P3D
CALSCALE:GREGORIAN
BEGIN:VEVENT
DTSTART:20220405T220000Z
DTEND:20220406T000000Z
X-MICROSOFT-CDO-ALLDAYEVENT:FALSE
SUMMARY:Comal ISD Job Fair
DESCRIPTION:Comal ISD will be hosting a job fair\, Tuesday\, April 5th from 5PM - 7PM at Support Services (1404 IH 35 N) in New Braunfels. We are hiring for all positions!\n\n\n\nCome work where Purpose and Passion intersect. We cannot wait to meet you!
X-ALT-DESC;FMTTYPE=text/html:Comal ISD will be hosting a job fair\, Tuesday\, April 5th from 5PM - 7PM at Support Services (1404 IH 35 N) in New Braunfels. We are hiring for all positions!<br />\n<br />\nCome work where Purpose and Passion intersect. We cannot wait to meet you!
LOCATION:Support Services 1404 IH 35 N\, New Braunfels
UID:e.563.27265
SEQUENCE:3
DTSTAMP:20260421T234907Z
URL:https://web.bulverdespringbranchchamber.com/events/details/comal-isd-job-fair-04-05-2022-27265
END:VEVENT

END:VCALENDAR
