BEGIN:VCALENDAR
VERSION:2.0
PRODID:-//ChamberMaster//Event Calendar 2.0//EN
METHOD:PUBLISH
X-PUBLISHED-TTL:P3D
REFRESH-INTERVAL:P3D
CALSCALE:GREGORIAN
BEGIN:VEVENT
DTSTART:20220601T160000Z
DTEND:20220601T180000Z
X-MICROSOFT-CDO-ALLDAYEVENT:FALSE
SUMMARY:Comal ISD Job Fair at Danville Middle School
DESCRIPTION:Comal ISD will be hosting job fairs this summer! Join us Wednesday\, June 1\, 2022 from 11AM-1PM at Danville Middle School (370 Hubertus) in New Braunfels. We are hiring for all positions! Come work where Purpose and Passion intersect. We cannot wait to meet you!
X-ALT-DESC;FMTTYPE=text/html:Comal ISD will be hosting job fairs this summer! Join us Wednesday\, June 1\, 2022 from 11AM-1PM at Danville Middle School (370 Hubertus) in New Braunfels. We are hiring for all positions! Come work where Purpose and Passion intersect. We cannot wait to meet you!
LOCATION:Danville Middle School 370 Hubertus New Braunfels\, TX 78132
UID:e.563.27420
SEQUENCE:3
DTSTAMP:20260421T184200Z
URL:https://web.bulverdespringbranchchamber.com/events/details/comal-isd-job-fair-at-danville-middle-school-27420
END:VEVENT

END:VCALENDAR
