BEGIN:VCALENDAR
VERSION:2.0
PRODID:-//ChamberMaster//Event Calendar 2.0//EN
METHOD:PUBLISH
X-PUBLISHED-TTL:P3D
REFRESH-INTERVAL:P3D
CALSCALE:GREGORIAN
BEGIN:VEVENT
DTSTART:20200328T190000Z
DTEND:20200328T230000Z
X-MICROSOFT-CDO-ALLDAYEVENT:FALSE
SUMMARY:Fashion Soiree
DESCRIPTION:Save the date for Saturday March 28\, 2020 for the Fashion Soiree and fashion show benefiting SJRC Texas. Join us and emcee \, Courtney Friedman of KSAT\, for fashion\, food and music while supporting the children of SJRC.
X-ALT-DESC;FMTTYPE=text/html:Save the date for Saturday March 28\, 2020 for the Fashion Soiree and fashion show benefiting SJRC Texas. Join us and emcee \, Courtney Friedman of KSAT\, for fashion\, food and music while supporting the children of SJRC.
LOCATION:Oblate School of Theology
UID:e.563.24364
SEQUENCE:3
DTSTAMP:20260423T183357Z
URL:https://web.bulverdespringbranchchamber.com/events/details/fashion-soiree-24364
END:VEVENT

END:VCALENDAR
