BEGIN:VCALENDAR
VERSION:2.0
PRODID:-//ChamberMaster//Event Calendar 2.0//EN
METHOD:PUBLISH
X-PUBLISHED-TTL:P3D
REFRESH-INTERVAL:P3D
CALSCALE:GREGORIAN
BEGIN:VEVENT
DTSTART:20220704T130000Z
DTEND:20220704T150000Z
X-MICROSOFT-CDO-ALLDAYEVENT:FALSE
SUMMARY:Freedom 5K/10K/Kids Fun Run
DESCRIPTION:Come Join Us in the 1st Annual Freedom 5K/10K/Kids Fun Run Annual Event Supporting local nonprofit HIS Centre! \n\n \n\n\n\n100% of the proceeds will go to our Community Health Program 2022 Initiative to train as many business owners/community members in critical lifesaving CPR/Stop the Bleed Program at no cost.\n\n \n\n\n\n3 Ways you can Help:\n\n\n\n1. SPONSOR\n\n2. REGISTER www.runbulverde.com\n\n3. VOLUNTEER
X-ALT-DESC;FMTTYPE=text/html:<div>\n<div><span style="font-size:14px\;"><span style="font-family:verdana\;">Come Join Us in the 1st Annual Freedom 5K/10K/Kids Fun Run Annual Event Supporting local nonprofit&nbsp\;<a class="oajrlxb2 g5ia77u1 qu0x051f esr5mh6w e9989ue4 r7d6kgcz rq0escxv nhd2j8a9 nc684nl6 p7hjln8o kvgmc6g5 cxmmr5t8 oygrvhab hcukyx3x jb3vyjys rz4wbd8a qt6c0cv9 a8nywdso i1ao9s8h esuyzwwr f1sip0of lzcic4wl gpro0wi8 q66pz984 b1v8xokw" href="https://www.facebook.com/hiscentre/?__cft__[0]=AZVVOwQGu_cuzs_N1UR8CqA3p415JiMnayZ1QEFAjQepm_gUOPpISfH-siqMTKfI0j7KUD_eu6VDp_sXzWRzy2MbqVKEOkRMv8VNynSFzfu0zqc1Q3S98VVcL5CpXcmrpycRPtqG5JXVj8LcBK2FG4YSYeWIvxh-hEcTOOY15jVmnJZEYU5T4hv3_-Jj1_qLZMWhQB2_hpc5X3_6BPWGQ6m9jHThc1fzBksYYDtLOGIWDw&amp\;__tn__=kK-R" style="color: var(--accent)\; cursor: pointer\; text-decoration-line: none\; outline: none\; list-style: none\; border-width: 0px\; border-style: initial\; border-color: initial\; padding: 0px\; margin: 0px\; touch-action: manipulation\; background-color: transparent\; text-align: inherit\; display: inline\; -webkit-tap-highlight-color: transparent\; box-sizing: border-box\; font-family: inherit\;" tabindex="0">HIS Centre</a>!&nbsp\;</span></span><br />\n&nbsp\;</div>\n</div>\n\n<div>\n<div><span style="font-size:14px\;"><span style="font-family:verdana\;"><strong>100% of the proceeds will go to our Community Health Program 2022 Initiative to train as many business owners/community members in critical lifesaving CPR/Stop the Bleed Program at no cost.</strong></span></span><br />\n&nbsp\;</div>\n</div>\n\n<div>\n<div><span style="font-size:14px\;"><span style="font-family:verdana\;">3 Ways you can Help:</span></span></div>\n</div>\n\n<div>\n<div><span style="font-size:14px\;"><span style="font-family:verdana\;">1. SPONSOR</span></span></div>\n\n<div><span style="font-size:14px\;"><span style="font-family:verdana\;">2. REGISTER <a class="oajrlxb2 g5ia77u1 qu0x051f esr5mh6w e9989ue4 r7d6kgcz rq0escxv nhd2j8a9 nc684nl6 p7hjln8o kvgmc6g5 cxmmr5t8 oygrvhab hcukyx3x jb3vyjys rz4wbd8a qt6c0cv9 a8nywdso i1ao9s8h esuyzwwr f1sip0of lzcic4wl gpro0wi8 py34i1dx" href="http://www.runbulverde.com" rel="nofollow noopener" style="color: var(--blue-link)\; cursor: pointer\; text-decoration-line: none\; outline: none\; list-style: none\; border-width: 0px\; border-style: initial\; border-color: initial\; padding: 0px\; margin: 0px\; touch-action: manipulation\; background-color: transparent\; text-align: inherit\; display: inline\; -webkit-tap-highlight-color: transparent\; box-sizing: border-box\; font-family: inherit\;" tabindex="0" target="_blank">www.runbulverde.com</a></span></span></div>\n\n<div><span style="font-size:14px\;"><span style="font-family:verdana\;">3. VOLUNTEER</span></span></div>\n</div>\n
LOCATION:Bulverde Community Park
UID:e.563.27437
SEQUENCE:3
DTSTAMP:20260421T182844Z
URL:https://web.bulverdespringbranchchamber.com/events/details/freedom-5k-10k-kids-fun-run-27437
END:VEVENT

END:VCALENDAR
