BEGIN:VCALENDAR
VERSION:2.0
PRODID:-//ChamberMaster//Event Calendar 2.0//EN
METHOD:PUBLISH
X-PUBLISHED-TTL:P3D
REFRESH-INTERVAL:P3D
CALSCALE:GREGORIAN
BEGIN:VEVENT
DTSTART:20211005T190000Z
DTEND:20211005T200000Z
X-MICROSOFT-CDO-ALLDAYEVENT:FALSE
SUMMARY:Grief Support Group
DESCRIPTION:Whether the loss is from the passing of a loved one or seeing a loved one losing memory to Alzheimer's/ Dementia disease\, dealing with a new normal can be difficult. This interactive discussion works through healthy coping\, ways to bust stress and validating the grieving process. Registration is required for zoom link.\n\nDiscussion leader will be James Butler\, Chaplain/ Bereavement Coordinator from the Heart of Texas Hospice here in Spring Branch.
X-ALT-DESC;FMTTYPE=text/html:<p>Whether the loss is from the passing of a loved one or seeing a loved one losing memory to Alzheimer&#39\;s/ Dementia disease\, dealing with a new normal can be difficult. This interactive discussion works through healthy coping\, ways to bust stress and validating the grieving process. Registration is required for zoom link.</p>\n\n<p>Discussion leader&nbsp\;will be James Butler\,&nbsp\;Chaplain/ Bereavement Coordinator from the Heart of Texas Hospice here in Spring Branch.</p>\n
LOCATION:online
UID:e.563.25605
SEQUENCE:3
DTSTAMP:20260422T101820Z
URL:https://web.bulverdespringbranchchamber.com/events/details/grief-support-group-10-05-2021-25605
END:VEVENT

END:VCALENDAR
