BEGIN:VCALENDAR
VERSION:2.0
PRODID:-//ChamberMaster//Event Calendar 2.0//EN
METHOD:PUBLISH
X-PUBLISHED-TTL:P3D
REFRESH-INTERVAL:P3D
CALSCALE:GREGORIAN
BEGIN:VEVENT
DTSTART:20220419T000000Z
DTEND:20220419T013000Z
X-MICROSOFT-CDO-ALLDAYEVENT:FALSE
SUMMARY:Headwaters: A New Approach to Water Conservation
DESCRIPTION:Join LWV-Comal Area for two Earth Day events in April.\n\n\n\nOn Monday\, April 18\, Managing Director at Headwaters at the Comal Nancy Pappas will discuss "Headwaters...Where It Begins: A New Approach to Water Conservation" at 7 p.m online at Zoom ( ID: 860 9865 9369\, passcode: 673106) and Facebook Live @LWVComal.\n\n\n\nOn Saturday\, April 23\, we will have a booth at Headwater's Fourth Annual Earth Day Festival from 10 a.m. to 2 p.m.. Headwaters at the Comal is the New Braunfels Utilities' legacy conservation project located at 333 E. Klingemann St. \, New Braunfels\, TX 78130. Learn more about this "true intersection of the story of water and history in Texas" and how it is a place "where people can learn\, have fun\, and experience history and nature" that is "strengthening the relationship between community and nature by showcasing the significance of the Comal Springs" at either event.\n\n\n\nVoter registration and nonpartisan election information for the May 7 elections and the May 24 runoff will be available at our Festival Booth. VDRs are needed. To volunteer contact Laraine Henchal.
X-ALT-DESC;FMTTYPE=text/html:Join LWV-Comal Area for two Earth Day events in April.<br />\n<br />\nOn Monday\, April 18\, Managing Director at Headwaters at the Comal Nancy Pappas will discuss &quot\;Headwaters...Where It Begins: A New Approach to Water Conservation&quot\; at 7 p.m online at Zoom ( ID: 860 9865 9369\, passcode: 673106) and Facebook Live @LWVComal.<br />\n<br />\nOn Saturday\, April 23\, we will have a booth at Headwater&#39\;s Fourth Annual Earth Day Festival from 10 a.m. to 2 p.m.. Headwaters at the Comal is the New Braunfels Utilities&#39\; legacy conservation project located at 333 E. Klingemann St. \, New Braunfels\, TX 78130. Learn more about this &quot\;true intersection of the story of water and history in Texas&quot\; and how it is a place &quot\;where people can learn\, have fun\, and experience history and nature&quot\; that is &quot\;strengthening the relationship between community and nature by showcasing the significance of the Comal Springs&quot\; at either event.<br />\n<br />\nVoter registration and nonpartisan election information for the May 7 elections and the May 24 runoff will be available at our Festival Booth. VDRs are needed. To volunteer contact Laraine Henchal.
LOCATION:
UID:e.563.27345
SEQUENCE:3
DTSTAMP:20260421T215843Z
URL:https://web.bulverdespringbranchchamber.com/events/details/headwaters-a-new-approach-to-water-conservation-27345
END:VEVENT

END:VCALENDAR
