BEGIN:VCALENDAR
VERSION:2.0
PRODID:-//ChamberMaster//Event Calendar 2.0//EN
METHOD:PUBLISH
X-PUBLISHED-TTL:P3D
REFRESH-INTERVAL:P3D
CALSCALE:GREGORIAN
BEGIN:VEVENT
DTSTART:20200121T000000Z
DTEND:20200121T013000Z
X-MICROSOFT-CDO-ALLDAYEVENT:FALSE
SUMMARY:How Do We Get Fair Voting Districts?
DESCRIPTION:Why fair voting district maps are important and benefit everyone will be the focus of a nonpartisan\, public forum hosted by the League of Women Voters of the Comal Area. LWV-TX Redistricting Issue Chair Stephanie Swanson and Common Cause Texas Chair JC Dufresne will discuss the current process for determining voting districts and what changes are needed. These improvements include a Citizens Redistricting Commission\, and a state redistricting process and standards that promote fair and elective representation with maximum opportunity for public scrutiny.
X-ALT-DESC;FMTTYPE=text/html:Why fair voting district maps are important and benefit everyone will be the focus of a nonpartisan\, public forum hosted by the League of Women Voters of the Comal Area. LWV-TX Redistricting Issue Chair Stephanie Swanson and Common Cause Texas Chair JC Dufresne will discuss the current process for determining voting districts and what changes are needed. These improvements include a Citizens Redistricting Commission\, and a state redistricting process and standards that promote fair and elective representation with maximum opportunity for public scrutiny.
LOCATION:Tye Preston Memorial Public Library 16311 South Access Rd Canyon Lake\, TX 78133
UID:e.563.24023
SEQUENCE:3
DTSTAMP:20260423T233548Z
URL:https://web.bulverdespringbranchchamber.com/events/details/how-do-we-get-fair-voting-districts-24023
END:VEVENT

END:VCALENDAR
