BEGIN:VCALENDAR
VERSION:2.0
PRODID:-//ChamberMaster//Event Calendar 2.0//EN
METHOD:PUBLISH
X-PUBLISHED-TTL:P3D
REFRESH-INTERVAL:P3D
CALSCALE:GREGORIAN
BEGIN:VEVENT
DTSTART:20220110T233000Z
DTEND:20220111T004500Z
X-MICROSOFT-CDO-ALLDAYEVENT:FALSE
SUMMARY:In-Person: 7 Steps to Retirement Success
DESCRIPTION:In-person only Room C\n\n\n\nDuring retirement\, it is critical to have clearly defined offensive and defensive strategies. Unexpected events will happen\, the key is knowing how and when to play offense or defense. Having strong financial fundamentals in your plan will give you the confidence to do the right thing for your situation at the right time. This course is designed to provide you with the tools and resources necessary to establish both offensive and defensive planning strategies that will help ensure a predictable path to retirement success while minimizing your chances of running out of money prematurely.\n\n\n\nAbout the presenter: Nan Lesnick is the Chapter President for the American Financial Education Alliance (AFEA) website is here https://www.myafea.org/.  It is a 501(c)(3) non-profit organization whose mission is to inform and empower Americans to take control of their finances by providing comprehensive financial education in communities nationwide. \n\n\n\nAdults. Registration required.
X-ALT-DESC;FMTTYPE=text/html:In-person only Room C<br />\n<br />\nDuring retirement\, it is critical to have clearly defined offensive and defensive strategies. Unexpected events will happen\, the key is knowing how and when to play offense or defense. Having strong financial fundamentals in your plan will give you the confidence to do the right thing for your situation at the right time. This course is designed to provide you with the tools and resources necessary to establish both offensive and defensive planning strategies that will help ensure a predictable path to retirement success while minimizing your chances of running out of money prematurely.<br />\n<br />\nAbout the presenter: Nan Lesnick is the Chapter President for the American Financial Education Alliance (AFEA) website is here https://www.myafea.org/.&nbsp\; It is a 501(c)(3) non-profit organization whose mission is to inform and empower Americans to take control of their finances by providing comprehensive financial education in communities nationwide.&nbsp\;<br />\n<br />\nAdults. <a href="https://mfplibrary.libcal.com/event/8602714">Registration required.</a>
LOCATION:Mammen Family Public Library
UID:e.563.27022
SEQUENCE:3
DTSTAMP:20260422T051421Z
URL:https://web.bulverdespringbranchchamber.com/events/details/in-person-7-steps-to-retirement-success-27022
END:VEVENT

END:VCALENDAR
