BEGIN:VCALENDAR
VERSION:2.0
PRODID:-//ChamberMaster//Event Calendar 2.0//EN
METHOD:PUBLISH
X-PUBLISHED-TTL:P3D
REFRESH-INTERVAL:P3D
CALSCALE:GREGORIAN
BEGIN:VEVENT
DTSTART:20220322T180000Z
DTEND:20220322T203000Z
X-MICROSOFT-CDO-ALLDAYEVENT:FALSE
SUMMARY:In-person: Bridge Group
DESCRIPTION:Come and 'Play Bridge' or 'Learn how to play Bridge' with a fun and welcoming group.\n\nHands can be discussed for improving play if wanted or needed! Adults and Teens welcome and group will meet weekly! Please register the first time you are going to attend.\n\n \n\n We will be using an unstructured format for play.  Please join us when you can and feel free to leave when you must.
X-ALT-DESC;FMTTYPE=text/html:<p>&nbsp\;</p>\n\n<p><span style="font-size:16px">Come and &#39\;Play Bridge&#39\; or &lsquo\;Learn how to play Bridge&rsquo\; with a fun and welcoming group.</span></p>\n\n<p><span style="font-size:16px">Hands can be discussed for improving play if wanted or needed! Adults and Teens welcome and group will meet weekly! Please register the first time you are going to attend.</span></p>\n\n<p>&nbsp\;</p>\n\n<p><span style="font-size:16px">&nbsp\;We will be using an unstructured format for play.&nbsp\; Please join us when you can and feel free to leave when you must.</span></p>\n
LOCATION:Mammen Family Public Library In-person Only Room B
UID:e.563.26350
SEQUENCE:3
DTSTAMP:20260422T012824Z
URL:https://web.bulverdespringbranchchamber.com/events/details/in-person-bridge-group-03-22-2022-26350
END:VEVENT

END:VCALENDAR
