BEGIN:VCALENDAR
VERSION:2.0
PRODID:-//ChamberMaster//Event Calendar 2.0//EN
METHOD:PUBLISH
X-PUBLISHED-TTL:P3D
REFRESH-INTERVAL:P3D
CALSCALE:GREGORIAN
BEGIN:VEVENT
DTSTART:20220602T220000Z
DTEND:20220603T000000Z
X-MICROSOFT-CDO-ALLDAYEVENT:FALSE
SUMMARY:June Comal ISD Job Fair at Support Services
DESCRIPTION:Comal ISD will be hosting job fairs this summer! Join us Thursday\, June 2\, 2022 at Support Services (1404 IH 35 N) in New Braunfels from 5-7PM. We are hiring for all positions! Come work where Purpose and Passion intersect. We cannot wait to meet you!
X-ALT-DESC;FMTTYPE=text/html:Comal ISD will be hosting job fairs this summer! Join us Thursday\, June 2\, 2022 at Support Services (1404 IH 35 N) in New Braunfels from 5-7PM. We are hiring for all positions! Come work where Purpose and Passion intersect. We cannot wait to meet you!
LOCATION:CISD Support Services 1404 IH 35 N New Braunfels\, TX 78130
UID:e.563.27421
SEQUENCE:3
DTSTAMP:20260421T183403Z
URL:https://web.bulverdespringbranchchamber.com/events/details/june-comal-isd-job-fair-at-support-services-27421
END:VEVENT

END:VCALENDAR
