BEGIN:VCALENDAR
VERSION:2.0
PRODID:-//ChamberMaster//Event Calendar 2.0//EN
METHOD:PUBLISH
X-PUBLISHED-TTL:P3D
REFRESH-INTERVAL:P3D
CALSCALE:GREGORIAN
BEGIN:VEVENT
DTSTART:20220722T000000Z
DTEND:20220722T030000Z
X-MICROSOFT-CDO-ALLDAYEVENT:FALSE
SUMMARY:Live Music from Barrett Paul
DESCRIPTION:Support your local bands by coming to TPOB for Barrett Paul Thursday the 21st. You don't want to miss it!
X-ALT-DESC;FMTTYPE=text/html:Support your local bands by coming to TPOB for Barrett Paul Thursday the 21st. You don&#39\;t want to miss it!
LOCATION:That Place On Blanco 33855 Blanco Rd.\, Buverde TX 78163
UID:e.563.27649
SEQUENCE:3
DTSTAMP:20260421T182930Z
URL:https://web.bulverdespringbranchchamber.com/events/details/live-music-from-barrett-paul-27649
END:VEVENT

END:VCALENDAR
