BEGIN:VCALENDAR
VERSION:2.0
PRODID:-//ChamberMaster//Event Calendar 2.0//EN
METHOD:PUBLISH
X-PUBLISHED-TTL:P3D
REFRESH-INTERVAL:P3D
CALSCALE:GREGORIAN
BEGIN:VEVENT
DTSTART:20200107T200000Z
DTEND:20200107T220000Z
X-MICROSOFT-CDO-ALLDAYEVENT:FALSE
SUMMARY:Long Term Care Coffee Talk
DESCRIPTION:Join Altaf as he gives an educational talk about Long Term Care and how to go about making a long term care plan.\nThe program would be purely educational and would need to only speak in generic terms about the insurance.
X-ALT-DESC;FMTTYPE=text/html:<p>Join Altaf as he gives an educational talk about Long Term Care and how to go about making a long term care plan.</p>\nThe program would be purely educational and would need to only speak in generic terms about the insurance.&nbsp\;
LOCATION:Mammen Family Public Library 131 Bulverde Crossing Bulverde\, TX 78163
UID:e.563.24024
SEQUENCE:3
DTSTAMP:20260423T233243Z
URL:https://web.bulverdespringbranchchamber.com/events/details/long-term-care-coffee-talk-24024
END:VEVENT

END:VCALENDAR
