BEGIN:VCALENDAR
VERSION:2.0
PRODID:-//ChamberMaster//Event Calendar 2.0//EN
METHOD:PUBLISH
X-PUBLISHED-TTL:P3D
REFRESH-INTERVAL:P3D
CALSCALE:GREGORIAN
BEGIN:VEVENT
DTSTART:20221025T200000Z
DTEND:20221025T230000Z
X-MICROSOFT-CDO-ALLDAYEVENT:FALSE
SUMMARY:Luxury Property Auction Preview Event
DESCRIPTION:Join us for live music\, light bites and beverages! This property is selling at auction\, no reserve. Bidding open November 10-15.
X-ALT-DESC;FMTTYPE=text/html:Join us for live music\, light bites and beverages! This property is selling at auction\, no reserve. Bidding open November 10-15.
LOCATION:1145 Cypress Cove Spring Branch\, TX 78070
UID:e.563.28256
SEQUENCE:3
DTSTAMP:20260419T125609Z
URL:https://web.bulverdespringbranchchamber.com/events/details/luxury-property-auction-preview-event-28256
END:VEVENT

END:VCALENDAR
