BEGIN:VCALENDAR
VERSION:2.0
PRODID:-//ChamberMaster//Event Calendar 2.0//EN
METHOD:PUBLISH
X-PUBLISHED-TTL:P3D
REFRESH-INTERVAL:P3D
CALSCALE:GREGORIAN
BEGIN:VEVENT
DTSTART:20200211T200000Z
DTEND:20200211T213000Z
X-MICROSOFT-CDO-ALLDAYEVENT:FALSE
SUMMARY:Medicare 101
DESCRIPTION:This is a free informational seminar on Medicare insurance.\n\nRegistration is suggested for informational packet count.\n\n\nThe seminars are designed for those turning 65 or anyone in need of a better understanding of the complex work of Medicare insurance.\n\nThe Presenter: Juan Farias is a Licensed Insurance Specialist with Vibrant USA.
X-ALT-DESC;FMTTYPE=text/html:<p><span style="font-size:16px\;">This is a free informational seminar on Medicare insurance.</span></p>\n\n<p><span style="font-size:16px\;">Registration is suggested for informational packet count.</span></p>\n\n<hr />\n<p><span style="font-size:16px\;">The seminars are designed for those turning 65 or anyone in need of a better understanding of the complex work of Medicare insurance.</span></p>\n\n<p><span style="font-size:16px\;">The Presenter: Juan Farias is a&nbsp\;Licensed Insurance Specialist with Vibrant USA.</span></p>\n
LOCATION:Mammen Family Public Library
UID:e.563.24094
SEQUENCE:3
DTSTAMP:20260423T215808Z
URL:https://web.bulverdespringbranchchamber.com/events/details/medicare-101-02-11-2020-24094
END:VEVENT

END:VCALENDAR
