BEGIN:VCALENDAR
VERSION:2.0
PRODID:-//ChamberMaster//Event Calendar 2.0//EN
METHOD:PUBLISH
X-PUBLISHED-TTL:P3D
REFRESH-INTERVAL:P3D
CALSCALE:GREGORIAN
BEGIN:VEVENT
DTSTART:20240309T190000Z
DTEND:20240309T200000Z
X-MICROSOFT-CDO-ALLDAYEVENT:FALSE
SUMMARY:Mindfulness Meditation
DESCRIPTION:Join instructor Mike Brown as he guides us through a meditation session at Mammen Family Public Library. Participants will be invited to try various simple techniques that bring about awareness in the present moment. We'll learn about the practice of meditation\, techniques to get started\, and about the many benefits of this practice. \n\nNo prior meditation experience or knowledge is necessary. All adults are welcome. Attendees are welcome to bring their own meditation cushions or use a regular chair provided by the library.\n\nTo join us\, register online on the library's calendar or by calling the library at (830) 438-4864.
X-ALT-DESC;FMTTYPE=text/html:<p>Join instructor Mike Brown as he guides us through a meditation session at Mammen Family Public Library. Participants will be invited to try various simple techniques that bring about awareness in the present moment. We&#39\;ll learn about the practice of meditation\, techniques to get started\, and about the many benefits of this practice.&nbsp\;</p>\n\n<p>No prior meditation experience or knowledge is necessary. All adults are welcome. Attendees are welcome to bring their own meditation cushions or use a regular chair provided by the library.</p>\n\n<p>To join us\, register online on the library&#39\;s calendar or by calling the library at (830) 438-4864.</p>\n
LOCATION:Mammen Family Public Library
UID:e.563.35410
SEQUENCE:3
DTSTAMP:20260420T122408Z
URL:https://web.bulverdespringbranchchamber.com/events/details/mindfulness-meditation-35410
END:VEVENT

END:VCALENDAR
