BEGIN:VCALENDAR
VERSION:2.0
PRODID:-//ChamberMaster//Event Calendar 2.0//EN
METHOD:PUBLISH
X-PUBLISHED-TTL:P3D
REFRESH-INTERVAL:P3D
CALSCALE:GREGORIAN
BEGIN:VEVENT
DTSTART:20200827T160000Z
DTEND:20200827T173000Z
X-MICROSOFT-CDO-ALLDAYEVENT:FALSE
SUMMARY:One More Customer Roundtable
DESCRIPTION:The One More Customer monthly event brings small business owners\, community leaders\, and individuals together in one location to network\, exchange business cards\, and build relationships.\n\n\n\nFran Tarkenton and a special guest present a 20-25 minute video webcast with an insightful business coaching session. Guests include CEOs\, bestselling authors\, motivators\, entrepreneurs\, marketers\, real estate moguls\, and other movers and shakers\, with a special focus on sales\, marketing\, and customer service.\n\n\n\nThe agenda:\n\n	Arrival and informal mixer\n	Broadcast\n	Discussion about the topics presented\n	Introductions and passing of business information\n	Close\n\n\n\nTHIS MONTH'S TOPIC\n\n\n\nJoin us this month as Fran sits down to talk with branding and business strategy expert Scott Miller about how small business owners can compete with the big dogs   and win! Watch as he shares his tips on how to:\n\n\n	Make steady and lasting progress\n	Become a vision-driven leader\n	Embrace change and provide more options for consumers\n\n\n\n\n\n\nABOUT OUR GUEST\n\nScott Miller is the Founder & CEO of Core Strategy Group\, a firm which specializes in developing communications\, marketing and branding strategies for clients as diverse as Apple\, McDonald's\, Verizon\, Microsoft\, Coca-Cola\, Google\, Highfields Capital\, American Express\, The Home Depot and The Walt Disney Company.\n\n\n\nHe has worked extensively as a communications strategist for dozens of U.S. Presidential\, Senatorial and gubernatorial campaigns\, as well as with international leaders and organizations. He was formerly Creative Director of McCann-Erickson in New York and has won every major award for creative excellence in the advertising industry\, including Clio Awards and a Lion d'Or from the Cannes Film Festival. He has written several books\, including co-authoring One More Customer with long-time friend and collaborator Fran Tarkenton. \n\n\n\nScott is a member of the Council on Foreign Relations and a graduate of Washington & Lee University\, and lives in Atlanta\, Georgia\, with his wife Denise.
X-ALT-DESC;FMTTYPE=text/html:The&nbsp\;<strong>One More Customer</strong>&nbsp\;monthly event brings small business owners\, community leaders\, and individuals together in one location to network\, exchange business cards\, and build relationships.<br />\n<br />\nFran Tarkenton and a special guest present a 20-25 minute video webcast with an insightful business coaching session. Guests include CEOs\, bestselling authors\, motivators\, entrepreneurs\, marketers\, real estate moguls\, and other movers and shakers\, with a special focus on sales\, marketing\, and customer service.<br />\n<br />\nThe agenda:\n<ul>\n	<li>Arrival and informal mixer</li>\n	<li>Broadcast</li>\n	<li>Discussion about the topics presented</li>\n	<li>Introductions and passing of business information</li>\n	<li>Close</li>\n</ul>\n\n<hr />\n<h3><em>THIS MONTH&#39\;S TOPIC</em></h3>\n\n<div>\n<div>\n<div><span style="color:#636363"><span style="font-family:arial\,sans-serif"><span style="font-size:10.5pt">Join us this month as Fran sits down to talk with branding and business strategy expert&nbsp\;Scott Miller&nbsp\;about how small business owners can compete with the big dogs &ndash\; and win! Watch as he shares his tips on how to:</span></span></span>\n\n<ul>\n	<li><span style="color:#636363"><span style="font-family:arial\,sans-serif"><span style="font-size:10.5pt">Make steady and lasting progress</span></span></span></li>\n	<li><span style="color:#636363"><span style="font-family:arial\,sans-serif"><span style="font-size:10.5pt">Become a vision-driven leader</span></span></span></li>\n	<li><span style="color:#636363"><span style="font-family:arial\,sans-serif"><span style="font-size:10.5pt">Embrace change and provide more options for consumers</span></span></span></li>\n</ul>\n</div>\n</div>\n</div>\n\n<hr />\n<p><strong>ABOUT OUR GUEST</strong><br />\n<strong><span style="color:#636363"><span style="font-family:arial\,sans-serif"><span style="font-size:12.0pt">Scott Miller</span></span></span></strong><span style="color:#636363"><span style="font-family:arial\,sans-serif"><span style="font-size:12.0pt">&nbsp\;is the Founder &amp\; CEO of&nbsp\;</span></span></span><span style="font-family:arial\,sans-serif"><span style="font-size:12.0pt">Core Strategy Group<span style="color:#636363">\, a firm which specializes in developing communications\, marketing and branding strategies for clients as diverse as Apple\, McDonald&rsquo\;s\, Verizon\, Microsoft\, Coca-Cola\, Google\, Highfields Capital\, American Express\, The Home Depot and The Walt Disney Company.</span></span></span><br />\n<br />\n<span style="color:#636363"><span style="font-family:arial\,sans-serif"><span style="font-size:12.0pt">He has worked extensively as a communications strategist for dozens of U.S. Presidential\, Senatorial and gubernatorial campaigns\, as well as with international leaders and organizations. He was formerly Creative Director of McCann-Erickson in New York and has won every major award for creative excellence in the advertising industry\, including Clio Awards and a Lion d&rsquo\;Or from the Cannes Film Festival. He has written several books\, including co-authoring&nbsp\;<em>One More Customer</em>&nbsp\;with long-time friend and collaborator Fran Tarkenton. </span></span></span><br />\n<br />\n<span style="color:#636363"><span style="font-family:arial\,sans-serif"><span style="font-size:12.0pt">Scott is a member of the Council on Foreign Relations and&nbsp\;a graduate of Washington &amp\; Lee University\, and lives in Atlanta\, Georgia\, with his wife Denise.</span></span></span><br />\n&nbsp\;</p>\n
LOCATION:This event will be an on-line ZOOM presentation.
UID:e.563.24804
SEQUENCE:3
DTSTAMP:20260423T105312Z
URL:https://web.bulverdespringbranchchamber.com/events/details/one-more-customer-roundtable-08-27-2020-24804
END:VEVENT

END:VCALENDAR
