BEGIN:VCALENDAR
VERSION:2.0
PRODID:-//ChamberMaster//Event Calendar 2.0//EN
METHOD:PUBLISH
X-PUBLISHED-TTL:P3D
REFRESH-INTERVAL:P3D
CALSCALE:GREGORIAN
BEGIN:VEVENT
DTSTART:20201214T160000Z
DTEND:20201214T170000Z
X-MICROSOFT-CDO-ALLDAYEVENT:FALSE
SUMMARY:Online - Great Mythologies of the World
DESCRIPTION:Online Zoom program\, registration is required to receive Zoom link and password\n						\n					\n				\n			\n\n			 \n\n			 Join anytime and start watching a different Mythology topic each week brought to us by the Great Courses and followed by discussion.\n\n			 \n\n			 We will email you weekly with the discussion guide\, topic of the week and additional resources! Register for one class and you are registered for this series that ran through the summer and will continue in the fall\, come to the lectures that you can\, if you miss classes you will be able to watch on your own time.\n\n			 \n\n			 You will also receive an additional resource packet each week and Zoom Connection instructions.  Log into Zoom.us join the Zoom Class Meeting at the appropriate time. You can join by desktop\, laptop\, smartphone or tablet. If you are on a smartphone or tablet download the Zoom Go To Meeting app before clicking on the link provided. Please allow a few extra minutes at the beginning to download the software/app if it is your first time using Zoom. You will need to let Zoom.us to connect to your device.
X-ALT-DESC;FMTTYPE=text/html:<table style="border-collapse:collapse\; border-spacing:0px\; font-family:arial\,helvetica\,verdana\; font-size:12px">\n	<tbody>\n		<tr>\n			<td>\n			<table style="background-color:transparent\; border-collapse:collapse\; border-spacing:0px">\n				<tbody>\n					<tr>\n						<td>\n						<p>Online Zoom program\, registration is required to receive <a href="https://mfplibrary.libcal.com/event/7020276">Zoom link and password</a></p>\n						</td>\n					</tr>\n				</tbody>\n			</table>\n\n			<p>&nbsp\;</p>\n\n			<p>&nbsp\;Join anytime and start watching a&nbsp\;different Mythology topic each week brought to us by the Great Courses and followed by discussion.</p>\n\n			<p>&nbsp\;</p>\n\n			<p>&nbsp\;We will email you weekly with the discussion guide\, topic of the week and additional resources! Register for one class and you are registered for this series that ran through the summer and will continue in the fall\, come to the lectures that you can\, if you miss classes you will be able to watch on your own time.</p>\n\n			<p>&nbsp\;</p>\n\n			<p>&nbsp\;You will also receive an additional resource packet each week and Zoom Connection instructions.&nbsp\; Log into Zoom.us join the Zoom Class Meeting at the appropriate time. You can join by desktop\, laptop\, smartphone or tablet. If you are on a smartphone or tablet download the Zoom Go To Meeting app before clicking on the link provided. Please allow a few extra minutes at the beginning to download the software/app if it is your first time using Zoom. You will need to let Zoom.us to connect to your device.</p>\n			</td>\n		</tr>\n	</tbody>\n</table>\n
LOCATION:Online
UID:e.563.24933
SEQUENCE:3
DTSTAMP:20260423T034957Z
URL:https://web.bulverdespringbranchchamber.com/events/details/online-great-mythologies-of-the-world-12-14-2020-24933
END:VEVENT

END:VCALENDAR
