BEGIN:VCALENDAR
VERSION:2.0
PRODID:-//ChamberMaster//Event Calendar 2.0//EN
METHOD:PUBLISH
X-PUBLISHED-TTL:P3D
REFRESH-INTERVAL:P3D
CALSCALE:GREGORIAN
BEGIN:VEVENT
DTSTART:20200915T163000Z
DTEND:20200915T173000Z
X-MICROSOFT-CDO-ALLDAYEVENT:FALSE
SUMMARY:Online - Master of Memory
DESCRIPTION:Join Jymann Davis and fellow Texas A&M AgriLife County Extension Agents as you learn to become your own master of memory.\n\nThe goal of the Master of Memory program is to improve participants' memory function. Master of Memory encourages participants to recognize that they can impact their memory function\, evaluate their own memory function\, identify factors that may enhance or detract from their memory function\, and find ways that may help address some of those factors.
X-ALT-DESC;FMTTYPE=text/html:<h3><span style="font-size:16px">Join Jymann Davis and fellow Texas A&amp\;M AgriLife County Extension Agents as you learn to become your own master of memory.</span></h3>\n\n<p><span style="font-size:16px">The goal of the Master of Memory program is to improve participants&rsquo\; memory function. Master of Memory encourages participants to recognize that they can impact their memory function\, evaluate their own memory function\, identify factors that may enhance or detract from their memory function\, and find ways that may help address some of those factors.</span></p>\n\n<p>&nbsp\;</p>\n
LOCATION:online
UID:e.563.24863
SEQUENCE:3
DTSTAMP:20260423T090925Z
URL:https://web.bulverdespringbranchchamber.com/events/details/online-master-of-memory-09-15-2020-24863
END:VEVENT

END:VCALENDAR
