BEGIN:VCALENDAR
VERSION:2.0
PRODID:-//ChamberMaster//Event Calendar 2.0//EN
METHOD:PUBLISH
X-PUBLISHED-TTL:P3D
REFRESH-INTERVAL:P3D
CALSCALE:GREGORIAN
BEGIN:VEVENT
DTSTART:20200921T180000Z
DTEND:20200921T190000Z
X-MICROSOFT-CDO-ALLDAYEVENT:FALSE
SUMMARY:Online - Prevent Medicare Fraud
DESCRIPTION:Join the Fight Against Medicare Fraud Texas A&M AgriLife Extension Service and Mammen Family Public Library presents: Medicare Fraud and Abuse Program In Partnership with the Texas Senior Medicare Patrol \n\n \n\nProgram Objectives\n\n*What is the Senior Medicare Patrol.\n\n*Explain Medicare fraud and abuse.\n\n*Identify examples of Medicare fraud.\n\n*List common Medicare fraud schemes.\n\n*Explain services that are frequently subject to fraud schemes.\n\n*Identify steps beneficiaries should take to prevent\, detect and report fraud and abuse.
X-ALT-DESC;FMTTYPE=text/html:<p><span style="font-size:16px">Join the Fight Against Medicare Fraud Texas A&amp\;M AgriLife Extension Service and Mammen Family Public Library presents: Medicare Fraud and Abuse Program In Partnership with the Texas Senior Medicare Patrol&nbsp\;</span></p>\n\n<p>&nbsp\;</p>\n\n<p><span style="font-size:16px">Program Objectives</span></p>\n\n<p><span style="font-size:16px">*What is the Senior Medicare Patrol.</span></p>\n\n<p><span style="font-size:16px">*Explain Medicare fraud and abuse.</span></p>\n\n<p><span style="font-size:16px">*Identify examples of Medicare fraud.</span></p>\n\n<p><span style="font-size:16px">*List common Medicare fraud schemes.</span></p>\n\n<p><span style="font-size:16px">*Explain services that are frequently subject to fraud schemes.</span></p>\n\n<p><span style="font-size:16px">*Identify steps beneficiaries should take to prevent\, detect and report fraud and abuse.</span></p>\n
LOCATION:Online
UID:e.563.24918
SEQUENCE:3
DTSTAMP:20260423T091032Z
URL:https://web.bulverdespringbranchchamber.com/events/details/online-prevent-medicare-fraud-24918
END:VEVENT

END:VCALENDAR
