BEGIN:VCALENDAR
VERSION:2.0
PRODID:-//ChamberMaster//Event Calendar 2.0//EN
METHOD:PUBLISH
X-PUBLISHED-TTL:P3D
REFRESH-INTERVAL:P3D
CALSCALE:GREGORIAN
BEGIN:VEVENT
DTSTART:20210507T170000Z
DTEND:20210507T180000Z
X-MICROSOFT-CDO-ALLDAYEVENT:FALSE
SUMMARY:Online - Relationship Building with Your Spouse
DESCRIPTION:Relationships are EVERYTHING.\n\n\n\nBe it with a significant other\, our parent(s)\, sibling\, children\, friend\, coworker or even the general public. How we feel about ourselves and our success in life all depend on how we relate to others. \n\n\n\nJoin Effi as she leads this intergenerational class where we will explore together what makes a good relationship and how to overcome our relationship challenges.\n\nWe will speak in generalizations to protect privacy\, yet address issues that all of us face. \n\nAbout the speaker: Effi Brandenburg has studied child development and adult education. She has lived and worked in varied settings here and abroad and now being retired she reflects back on what she has learned being happily married\, a mother\, grandmother\, sibling and keeping up with lifelong friends\, she has concluded that relationships are everything in life. \n\n \n\nMay 7 - Relationship Building With Your Spouse \n\nMay 14 - Relationship Building with Your Children\n\nMay 21 - Relationship Building with Your Friends
X-ALT-DESC;FMTTYPE=text/html:<p>Relationships are EVERYTHING.<br />\n<br />\nBe it with a significant other\, our parent(s)\, sibling\, children\,&nbsp\;friend\, coworker or even the general public. How we feel about ourselves and&nbsp\;our success in life all depend on how we relate to others.&nbsp\;<br />\n<br />\nJoin Effi as she leads this intergenerational class where we will explore together what makes a good relationship and how to overcome our relationship challenges.</p>\n\n<p>We will speak in generalizations to protect privacy\, yet address issues that all of us face.&nbsp\;</p>\n\n<p><em>About the speaker: Effi Brandenburg has studied child development and adult education. She has lived and worked in varied settings here and abroad and now being retired she reflects back on what she has learned being happily married\, a mother\, grandmother\, sibling and keeping up with lifelong friends\, she has concluded that relationships are everything in life.&nbsp\;</em></p>\n\n<p>&nbsp\;</p>\n\n<p>May 7 - Relationship Building With Your Spouse&nbsp\;</p>\n\n<p>May 14 - Relationship Building with Your Children</p>\n\n<p>May 21 - Relationship Building with Your Friends</p>\n
LOCATION:Online Program - Registration needed for online access
UID:e.563.25646
SEQUENCE:3
DTSTAMP:20260422T181500Z
URL:https://web.bulverdespringbranchchamber.com/events/details/online-relationship-building-with-your-spouse-25646
END:VEVENT

END:VCALENDAR
