BEGIN:VCALENDAR
VERSION:2.0
PRODID:-//ChamberMaster//Event Calendar 2.0//EN
METHOD:PUBLISH
X-PUBLISHED-TTL:P3D
REFRESH-INTERVAL:P3D
CALSCALE:GREGORIAN
BEGIN:VEVENT
DTSTART:20200721T163000Z
DTEND:20200721T170500Z
X-MICROSOFT-CDO-ALLDAYEVENT:FALSE
SUMMARY:Ribbon Cutting for Dermatology San Antonio
DESCRIPTION:Ribbon Cutting for\n\nDermatology San Antonio\n\nTuesday\, July 21\, 2020 at 11:30 am\n\n524 Singing Oaks\, Ste 280\n\nSpring Branch\, TX 78070\n\n210-615-7171\n\nlaura@dermsanantonio.com\n\nwww.dermsanantonio.com
X-ALT-DESC;FMTTYPE=text/html:Ribbon Cutting for<br />\n<span style="font-size:16px\;"><strong>Dermatology San Antonio</strong></span><br />\nTuesday\, July 21\, 2020 at 11:30 am<br />\n524 Singing Oaks\, Ste 280<br />\nSpring Branch\, TX 78070<br />\n210-615-7171<br />\nlaura@dermsanantonio.com<br />\nwww.dermsanantonio.com
LOCATION:524 Singing Oaks\, Ste 280 Spring Branch\, TX 78070
UID:e.563.24533
SEQUENCE:3
DTSTAMP:20260423T111323Z
URL:https://web.bulverdespringbranchchamber.com/events/details/ribbon-cutting-for-dermatology-san-antonio-24533
END:VEVENT

END:VCALENDAR
