BEGIN:VCALENDAR
VERSION:2.0
PRODID:-//ChamberMaster//Event Calendar 2.0//EN
METHOD:PUBLISH
X-PUBLISHED-TTL:P3D
REFRESH-INTERVAL:P3D
CALSCALE:GREGORIAN
BEGIN:VEVENT
DTSTART:20220310T233000Z
DTEND:20220311T000000Z
X-MICROSOFT-CDO-ALLDAYEVENT:FALSE
SUMMARY:Ribbon Cutting for Ecosystem Planning & Restoration\, LLC (EPR)
DESCRIPTION:Ribbon Cutting for\n\nEcosystem Planning & Restoration\, LLC (EPR)\n\nThursday\, March 10th\, 2022 at 5:30 pm\n\nBulverde Visitor's & Event Center at the Hampton Inn \n\n499 Singing Oaks\n\nSpring Branch\, TX 78070\n\nTami Norton\n\n940-453-4595\n\ntnorton@eprusa.net
X-ALT-DESC;FMTTYPE=text/html:Ribbon Cutting for<br />\nEcosystem Planning &amp\; Restoration\, LLC (EPR)<br />\nThursday\, March 10th\, 2022 at 5:30 pm<br />\nBulverde Visitor&#39\;s &amp\; Event Center at the Hampton Inn&nbsp\;<br />\n499 Singing Oaks<br />\nSpring Branch\, TX 78070<br />\nTami Norton<br />\n940-453-4595<br />\ntnorton@eprusa.net
LOCATION:Bulverde Visitor's & Event Center at the Hampton Inn 499 Singing Oaks Spring Branch\, TX 78070
UID:e.563.27021
SEQUENCE:3
DTSTAMP:20260422T012824Z
URL:https://web.bulverdespringbranchchamber.com/events/details/ribbon-cutting-for-ecosystem-planning-restoration-llc-epr-27021
END:VEVENT

END:VCALENDAR
