BEGIN:VCALENDAR
VERSION:2.0
PRODID:-//ChamberMaster//Event Calendar 2.0//EN
METHOD:PUBLISH
X-PUBLISHED-TTL:P3D
REFRESH-INTERVAL:P3D
CALSCALE:GREGORIAN
BEGIN:VEVENT
DTSTART:20200303T173000Z
DTEND:20200303T180500Z
X-MICROSOFT-CDO-ALLDAYEVENT:FALSE
SUMMARY:Ribbon Cutting for Ripple Ranch Recovery Center
DESCRIPTION:Ribbon Cutting for\n\nRipple Ranch Recovery Center\n\nTuesday\, March 3\, 2020 at 11:30 am\n\n2098 Texas Oaks\n\nSpring Branch\, TX 78070\n\n830-754-9058\n\nwww.shadowmountainrecovery.com\n\ncsponhaltz@shadowmountainrecovery.com
X-ALT-DESC;FMTTYPE=text/html:Ribbon Cutting for<br />\n<span style="font-size:18px\;"><strong>Ripple Ranch Recovery Center</strong></span><br />\nTuesday\, March 3\, 2020 at 11:30 am<br />\n2098 Texas Oaks<br />\nSpring Branch\, TX 78070<br />\n830-754-9058<br />\nwww.shadowmountainrecovery.com<br />\ncsponhaltz@shadowmountainrecovery.com
LOCATION:2098 Texas Oaks Spring Branch\, TX 78070
UID:e.563.24316
SEQUENCE:3
DTSTAMP:20260423T202125Z
URL:https://web.bulverdespringbranchchamber.com/events/details/ribbon-cutting-for-ripple-ranch-recovery-center-24316
END:VEVENT

END:VCALENDAR
