BEGIN:VCALENDAR
VERSION:2.0
PRODID:-//ChamberMaster//Event Calendar 2.0//EN
METHOD:PUBLISH
X-PUBLISHED-TTL:P3D
REFRESH-INTERVAL:P3D
CALSCALE:GREGORIAN
BEGIN:VEVENT
DTSTART:20200121T173000Z
DTEND:20200121T180500Z
X-MICROSOFT-CDO-ALLDAYEVENT:FALSE
SUMMARY:Ribbon Cutting for Thai Kitchen & Sushi Bar
DESCRIPTION:Ribbon Cutting for\n\nThai Kitchen & Sushi Bar\n\nTuesday\, January 21\, 2020 at 11:30 am\n\n29782 US Hwy 281 N\, Ste 4A\n\nBulverde\, TX 78163\n\nThaiKitchen.Sushi@gmail.com
X-ALT-DESC;FMTTYPE=text/html:Ribbon Cutting for<br />\n<span style="font-size:18px\;"><strong>Thai Kitchen &amp\; Sushi Bar</strong></span><br />\nTuesday\, January 21\, 2020 at 11:30 am<br />\n29782 US Hwy 281 N\, Ste 4A<br />\nBulverde\, TX 78163<br />\nThaiKitchen.Sushi@gmail.com<br />\n&nbsp\;
LOCATION:29782 US Hwy 281 N\, Ste 4A BUlverde\, TX 78163
UID:e.563.24030
SEQUENCE:3
DTSTAMP:20260423T233827Z
URL:https://web.bulverdespringbranchchamber.com/events/details/ribbon-cutting-for-thai-kitchen-sushi-bar-24030
END:VEVENT

END:VCALENDAR
