BEGIN:VCALENDAR
VERSION:2.0
PRODID:-//ChamberMaster//Event Calendar 2.0//EN
METHOD:PUBLISH
X-PUBLISHED-TTL:P3D
REFRESH-INTERVAL:P3D
CALSCALE:GREGORIAN
BEGIN:VEVENT
DTSTART;VALUE=DATE:20200912
DTEND;VALUE=DATE:20200913
TRANSP:TRANSPARENT
X-MICROSOFT-CDO-ALLDAYEVENT:TRUE
SUMMARY:Screen Free Saturday Craft Kit for Adults and Teens
DESCRIPTION:Turn off those screens and tap into your creative side! Please register for this craft to recieve your materials. Once you receive an email that your kit is ready\, stop by the library and pick up your supplies. Instructions are included along with the materials.
X-ALT-DESC;FMTTYPE=text/html:<span style="font-family:arial\,helvetica\,verdana\; font-size:12px">Turn off those screens and tap into your creative side! Please register for this craft to recieve your materials. Once you receive an email that your kit is ready\, stop by the library and pick up your supplies. Instructions are included along with the materials.&nbsp\;</span>
LOCATION:Come pick up a craft at the drive up window to make at home!
UID:e.563.24908
SEQUENCE:3
DTSTAMP:20260423T091235Z
URL:https://web.bulverdespringbranchchamber.com/events/details/screen-free-saturday-craft-kit-for-adults-and-teens-24908
END:VEVENT

END:VCALENDAR
