BEGIN:VCALENDAR
VERSION:2.0
PRODID:-//ChamberMaster//Event Calendar 2.0//EN
METHOD:PUBLISH
X-PUBLISHED-TTL:P3D
REFRESH-INTERVAL:P3D
CALSCALE:GREGORIAN
BEGIN:VEVENT
DTSTART:20200422T140000Z
DTEND:20200422T210000Z
X-MICROSOFT-CDO-ALLDAYEVENT:FALSE
SUMMARY:Senior Community Health Screening
DESCRIPTION:Hill Country Christian Church is hosting Life Line Screening\, the nation's leading provider of preventive health screenings on Wednesday\, April 22\, 2020. The screenings offer a 5 test package to thoroughly check you for risk of stroke\, cardiovascular disease and other chronic conditions. The combination of these tests help detect problems   before you have symptoms and while your doctor can still take action   so you can keep doing the things you love. Call today to register! 800-690-0323
X-ALT-DESC;FMTTYPE=text/html:Hill Country Christian Church is hosting Life Line Screening\, the nation&rsquo\;s leading provider of preventive health screenings on Wednesday\, April 22\, 2020. The screenings offer a 5 test package to thoroughly check you for risk of stroke\, cardiovascular disease and other chronic conditions. The combination of these tests help detect problems &ndash\; before you have symptoms and while your doctor can still take action &hellip\; so you can keep doing the things you love. Call today to register! 800-690-0323
LOCATION:Hill Country Christian Church
UID:e.563.24417
SEQUENCE:3
DTSTAMP:20260423T164222Z
URL:https://web.bulverdespringbranchchamber.com/events/details/senior-community-health-screening-04-22-2020-24417
END:VEVENT

END:VCALENDAR
