BEGIN:VCALENDAR
VERSION:2.0
PRODID:-//ChamberMaster//Event Calendar 2.0//EN
METHOD:PUBLISH
X-PUBLISHED-TTL:P3D
REFRESH-INTERVAL:P3D
CALSCALE:GREGORIAN
BEGIN:VEVENT
DTSTART:20220519T230000Z
DTEND:20220520T030000Z
X-MICROSOFT-CDO-ALLDAYEVENT:FALSE
SUMMARY:SJRC Texas' Gratitude Gala
DESCRIPTION:Join us for an evening of impact as we honor those in the community who have helped us in our mission to help the most vulnerable of children and families.
X-ALT-DESC;FMTTYPE=text/html:Join us for an evening of impact as we honor those in the community who have helped us in our mission to help the most vulnerable of children and families.
LOCATION:Village Venue 2032 Central Plaza New Braunfels\, TX 78130
UID:e.563.27353
SEQUENCE:3
DTSTAMP:20260421T201116Z
URL:https://web.bulverdespringbranchchamber.com/events/details/sjrc-texas-gratitude-gala-27353
END:VEVENT

END:VCALENDAR
