BEGIN:VCALENDAR
VERSION:2.0
PRODID:-//ChamberMaster//Event Calendar 2.0//EN
METHOD:PUBLISH
X-PUBLISHED-TTL:P3D
REFRESH-INTERVAL:P3D
CALSCALE:GREGORIAN
BEGIN:VEVENT
DTSTART:20220814T010000Z
DTEND:20220814T045500Z
X-MICROSOFT-CDO-ALLDAYEVENT:FALSE
SUMMARY:Special Guest Star: Jessee Lee!
DESCRIPTION:Jessee Lee is coming to That Place On Blanco Saturday\, August 13!\n\n\n\nShe is an amazing singer/songwriter and we would love to show some support.\n\n\n\nCome give her a listen and meet new friends at TPOB!
X-ALT-DESC;FMTTYPE=text/html:<div style="text-align: center\;"><span style="font-size:16px\;"><span style="font-family:verdana\;">Jessee Lee is coming to That Place On Blanco Saturday\, August 13!<br />\n<br />\nShe is an amazing singer/songwriter and we would love to show some support.<br />\n<br />\nCome give her a listen and meet new friends at TPOB!</span></span></div>\n
LOCATION:That Place On Blanco
UID:e.563.27675
SEQUENCE:3
DTSTAMP:20260421T150805Z
URL:https://web.bulverdespringbranchchamber.com/events/details/special-guest-star-jessee-lee-08-13-2022-27675
END:VEVENT

END:VCALENDAR
