BEGIN:VCALENDAR
VERSION:2.0
PRODID:-//ChamberMaster//Event Calendar 2.0//EN
METHOD:PUBLISH
X-PUBLISHED-TTL:P3D
REFRESH-INTERVAL:P3D
CALSCALE:GREGORIAN
BEGIN:VEVENT
DTSTART:20211107T151500Z
DTEND:20211108T034500Z
X-MICROSOFT-CDO-ALLDAYEVENT:FALSE
SUMMARY:St Joseph Catholic Church Annual Veterans Day Ceremony
DESCRIPTION:St Joseph Catholic Church would like to invite all Veterans\, families\, friends and the local community to their Annual Veterans' Day Ceremony on Sunday\, 7Nov\, from 9:15-9:45am\, in the St Joseph Catholic Church day chapel\, in honoring all veterans who have served this great nation.\n\n\n\nVeterans' Day is observed annually on 11 Nov\, to celebrate and recognize America's veterans for their patriotism\, love of country\, and willingness to serve and sacrifice for the common good.\n\n\n\nThe ceremony will include patriotic readings\, songs\, recognition of Veterans\, and blessings of Veteran graves.\n\n\n\nThe church grounds are located at 25781 Hwy 46 West Spring Branch TX 78070. The Knights will also be placing flags on Friday at the veterans' gravesites in the church cemetery.\n\n\n\nIf you would like any additional information\, please contact Ron Janak at 210-745-0136.   Please join us as we honor those who have\, or are currently serving.
X-ALT-DESC;FMTTYPE=text/html:<span style="font-size:16px\;">St Joseph Catholic Church would like to invite all Veterans\, families\, friends and the local community to their Annual Veterans&rsquo\; Day Ceremony on Sunday\, 7Nov\, from 9:15-9:45am\, in the St Joseph Catholic Church day chapel\, in honoring all veterans who have served this great nation.<br />\n<br />\nVeterans&rsquo\; Day is observed annually on 11 Nov\, to celebrate and recognize America&rsquo\;s veterans for their patriotism\, love of country\, and willingness to serve and sacrifice for the common good.<br />\n<br />\nThe ceremony will include patriotic readings\, songs\, recognition of Veterans\, and blessings of Veteran graves.<br />\n<br />\nThe church grounds are located at 25781 Hwy 46 West Spring Branch TX 78070. The Knights will also be placing flags on Friday at the veterans&rsquo\; gravesites in the church cemetery.<br />\n<br />\nIf you would like any additional information\, please contact Ron Janak at 210-745-0136. &nbsp\;&nbsp\;Please join us as we honor those who have\, or are currently serving.</span><span style="font-family:cambria\,serif\;"> </span>
LOCATION:25781 Hwy 46 West Spring Branch TX 78070
UID:e.563.26471
SEQUENCE:3
DTSTAMP:20260422T084929Z
URL:https://web.bulverdespringbranchchamber.com/events/details/st-joseph-catholic-church-annual-veterans-day-ceremony-26471
END:VEVENT

END:VCALENDAR
