BEGIN:VCALENDAR
VERSION:2.0
PRODID:-//ChamberMaster//Event Calendar 2.0//EN
METHOD:PUBLISH
X-PUBLISHED-TTL:P3D
REFRESH-INTERVAL:P3D
CALSCALE:GREGORIAN
BEGIN:VEVENT
DTSTART;VALUE=DATE:20200418
DTEND;VALUE=DATE:20200419
TRANSP:TRANSPARENT
X-MICROSOFT-CDO-ALLDAYEVENT:TRUE
SUMMARY:TCA Car Show
DESCRIPTION:The Texas Corvette Association (TCA) was formed in 1979 for the purpose of promoting Corvette enthusiasm\, encouraging driving safety and supporting local charities.\n\n\n\nIn 2000\, following a desire to ensure donated funds were making a difference in a measurable and effective way\, the TCA board decided to adopt St Judes Ranch for Children (SJRC Texas) as the charity of choice and primary benefactor of the proceeds raised at the annual car show.\n\n\n\nSJRC Texas is a local organization with facilities in Bulverde and New Braunfels\, Texas. They annually care for more than 200 children in and from the Greater San Antonio area who have been affected by trauma\, abuse and neglect. SJRC Texas provides a safe haven for these children and offers help and hope to begin the journey of healing. More information is available on the SJRC website (www.sjrctexas.org).\n\n\n\nOur largest fundraiser is the Annual Open Car Show held during Fiesta in Boerne\, Texas. We were granted status as a Fiesta event in 2007 and this is the only Fiesta sanctioned event held outside of San Antonio. The Annual Open Car Show regularly attracts over 400 show cars and weather permitting we can expect as many as 8\,000 visitors from all over Texas.
X-ALT-DESC;FMTTYPE=text/html:The Texas Corvette Association (TCA) was formed in 1979 for the purpose of promoting Corvette enthusiasm\, encouraging driving safety and supporting local charities.<br />\n<br />\nIn 2000\, following a desire to ensure donated funds were making a difference in a measurable and effective way\, the TCA board decided to adopt St Judes Ranch for Children (SJRC Texas) as the charity of choice and primary benefactor of the proceeds raised at the annual car show.<br />\n<br />\nSJRC Texas is a local organization with facilities in Bulverde and New Braunfels\, Texas. They annually care for more than 200 children in and from the Greater San Antonio area who have been affected by trauma\, abuse and neglect. SJRC Texas provides a safe haven for these children and offers help and hope to begin the journey of healing. More information is available on the SJRC website (<a href="http://www.sjrctexas.org">www.sjrctexas.org</a>).<br />\n<br />\nOur largest fundraiser is the Annual Open Car Show held during Fiesta in Boerne\, Texas. We were granted status as a Fiesta event in 2007 and this is the only Fiesta sanctioned event held outside of San Antonio. The Annual Open Car Show regularly attracts over 400 show cars and weather permitting we can expect as many as 8\,000 visitors from all over Texas.
LOCATION:Main Street Boerne TX
UID:e.563.24365
SEQUENCE:3
DTSTAMP:20260423T164052Z
URL:https://web.bulverdespringbranchchamber.com/events/details/tca-car-show-24365
END:VEVENT

END:VCALENDAR
