BEGIN:VCALENDAR
VERSION:2.0
PRODID:-//ChamberMaster//Event Calendar 2.0//EN
METHOD:PUBLISH
X-PUBLISHED-TTL:P3D
REFRESH-INTERVAL:P3D
CALSCALE:GREGORIAN
BEGIN:VEVENT
DTSTART:20220217T010000Z
DTEND:20220217T020000Z
X-MICROSOFT-CDO-ALLDAYEVENT:FALSE
SUMMARY:The Business of Journalism – What Consumers Should Know
DESCRIPTION:The League of Women Voters - Comal Area will host Professor Dale Blasingame for a program focused on Media Literacy on Wednesday\, February 16th\, at 7 p.m. via Zoom (Meeting ID: 860 9865 9369\, Passcode: 673106) or Facebook Live @LWVComal. The February 16 program is entitled: "The Business of Journalism   What Consumers Should Know." The speaker\, Professor Blasingame\, is an assistant professor in the School of Journalism and Mass Communication at Texas State University. Blasingame is a part of the Digital Media Innovation faculty\, and in 2017 he received the Presidential Excellence Award for Teaching. Additionally\, he has experience as a reporter\, news anchor\, and news producer\, complete with two Lone Star Emmys.
X-ALT-DESC;FMTTYPE=text/html:The League of Women Voters - Comal Area will host Professor Dale Blasingame for a program focused on Media Literacy on Wednesday\, February 16th\, at 7 p.m. via Zoom (Meeting ID: 860 9865 9369\, Passcode: 673106) or Facebook Live @LWVComal. The February 16 program is entitled: &ldquo\;The Business of Journalism &ndash\; What Consumers Should Know.&rdquo\; The speaker\, Professor Blasingame\, is an assistant professor in the School of Journalism and Mass Communication at Texas State University. Blasingame is a part of the Digital Media Innovation faculty\, and in 2017 he received the Presidential Excellence Award for Teaching. Additionally\, he has experience as a reporter\, news anchor\, and news producer\, complete with two Lone Star Emmys.
LOCATION:Online via Zoom\, FacebookLive\, and YouTube
UID:e.563.27242
SEQUENCE:3
DTSTAMP:20260422T012906Z
URL:https://web.bulverdespringbranchchamber.com/events/details/the-business-of-journalism-what-consumers-should-know-27242
END:VEVENT

END:VCALENDAR
