BEGIN:VCALENDAR
VERSION:2.0
PRODID:-//ChamberMaster//Event Calendar 2.0//EN
METHOD:PUBLISH
X-PUBLISHED-TTL:P3D
REFRESH-INTERVAL:P3D
CALSCALE:GREGORIAN
BEGIN:VEVENT
DTSTART:20201109T180000Z
DTEND:20201109T190000Z
X-MICROSOFT-CDO-ALLDAYEVENT:FALSE
SUMMARY:Wounds Without Purple Hearts
DESCRIPTION:Wounds Without Purple Hearts is a presentation that focuses on United States Veterans who served our country during World War II\, Korea and Vietnam and the long term\, unattended invisible wounds that affect their minds\, hearts and souls.\n\n\n\nThese unhealed wounds\, known as Delayed Onset PTSD\, often manifest themselves throughout the life of the combat veteran and become especially apparent as they reach the end of their lives.\n\n\n\nLearning how to recognize the symptoms and respond to them can provide healing to these unhealed wounds of our veterans.\n \n\nAbout the speaker: Jonathan Scalone MA\, DMin\, USAF (retired)\, and Spiritual Care Counselor at Hope Hospice
X-ALT-DESC;FMTTYPE=text/html:Wounds Without Purple Hearts is a presentation that focuses on United States Veterans who served our country during World War II\, Korea and Vietnam and the long term\, unattended invisible wounds that affect their minds\, hearts and souls.<br />\n<br />\nThese unhealed wounds\, known as Delayed Onset PTSD\, often manifest themselves throughout the life of the combat veteran and become especially apparent as they reach the end of their lives.<br />\n<br />\nLearning how to recognize the symptoms and respond to them can provide healing to these unhealed wounds of our veterans.\n<p>&nbsp\;</p>\n\n<p>About the speaker: Jonathan&nbsp\;Scalone MA\, DMin\, USAF (retired)\, and Spiritual Care Counselor at Hope Hospice</p>\n\n<hr />
LOCATION:Online
UID:e.563.25024
SEQUENCE:3
DTSTAMP:20260423T050853Z
URL:https://web.bulverdespringbranchchamber.com/events/details/wounds-without-purple-hearts-25024
END:VEVENT

END:VCALENDAR
